BEGIN:VCALENDAR
VERSION:2.0
PRODID:-//Pollhansschule - ECPv6.15.20//NONSGML v1.0//EN
CALSCALE:GREGORIAN
METHOD:PUBLISH
X-ORIGINAL-URL:https://pollhansschule.de
X-WR-CALDESC:Veranstaltungen für Pollhansschule
REFRESH-INTERVAL;VALUE=DURATION:PT1H
X-Robots-Tag:noindex
X-PUBLISHED-TTL:PT1H
BEGIN:VTIMEZONE
TZID:Europe/Berlin
BEGIN:DAYLIGHT
TZOFFSETFROM:+0100
TZOFFSETTO:+0200
TZNAME:CEST
DTSTART:20250330T010000
END:DAYLIGHT
BEGIN:STANDARD
TZOFFSETFROM:+0200
TZOFFSETTO:+0100
TZNAME:CET
DTSTART:20251026T010000
END:STANDARD
BEGIN:DAYLIGHT
TZOFFSETFROM:+0100
TZOFFSETTO:+0200
TZNAME:CEST
DTSTART:20260329T010000
END:DAYLIGHT
BEGIN:STANDARD
TZOFFSETFROM:+0200
TZOFFSETTO:+0100
TZNAME:CET
DTSTART:20261025T010000
END:STANDARD
BEGIN:DAYLIGHT
TZOFFSETFROM:+0100
TZOFFSETTO:+0200
TZNAME:CEST
DTSTART:20270328T010000
END:DAYLIGHT
BEGIN:STANDARD
TZOFFSETFROM:+0200
TZOFFSETTO:+0100
TZNAME:CET
DTSTART:20271031T010000
END:STANDARD
END:VTIMEZONE
BEGIN:VEVENT
DTSTART;VALUE=DATE:20260605
DTEND;VALUE=DATE:20260606
DTSTAMP:20260420T053846
CREATED:20250821T145947Z
LAST-MODIFIED:20250821T145947Z
UID:1214-1780617600-1780703999@pollhansschule.de
SUMMARY:Beweglicher Ferientag - unterrichtsfrei
DESCRIPTION:
URL:https://pollhansschule.de/termin/beweglicher-ferientag-unterrichtsfrei-7/
END:VEVENT
BEGIN:VEVENT
DTSTART;VALUE=DATE:20260715
DTEND;VALUE=DATE:20260716
DTSTAMP:20260420T053846
CREATED:20260113T192318Z
LAST-MODIFIED:20260113T192318Z
UID:1433-1784073600-1784159999@pollhansschule.de
SUMMARY:Zeugnisausgabe Jahrgang 1 bis 3
DESCRIPTION:
URL:https://pollhansschule.de/termin/zeugnisausgabe-jahrgang-1-bis-3-2/
END:VEVENT
BEGIN:VEVENT
DTSTART;VALUE=DATE:20260717
DTEND;VALUE=DATE:20260718
DTSTAMP:20260420T053846
CREATED:20260113T192517Z
LAST-MODIFIED:20260113T192517Z
UID:1436-1784246400-1784332799@pollhansschule.de
SUMMARY:Zeugnisausgabe Jahrgang 4
DESCRIPTION:
URL:https://pollhansschule.de/termin/zeugnisausgabe-jahrgang-4-2/
END:VEVENT
BEGIN:VEVENT
DTSTART;VALUE=DATE:20260720
DTEND;VALUE=DATE:20260902
DTSTAMP:20260420T053846
CREATED:20250821T150912Z
LAST-MODIFIED:20250821T150912Z
UID:1236-1784505600-1788307199@pollhansschule.de
SUMMARY:Sommerferien
DESCRIPTION:
URL:https://pollhansschule.de/termin/sommerferien/
END:VEVENT
END:VCALENDAR